BEGIN:VCALENDAR
VERSION:2.0
PRODID:-//Mahaiwe Performing Arts Center - ECPv6.15.20//NONSGML v1.0//EN
CALSCALE:GREGORIAN
METHOD:PUBLISH
X-ORIGINAL-URL:https://mahaiwe.org
X-WR-CALDESC:Events for Mahaiwe Performing Arts Center
REFRESH-INTERVAL;VALUE=DURATION:PT1H
X-Robots-Tag:noindex
X-PUBLISHED-TTL:PT1H
BEGIN:VTIMEZONE
TZID:America/New_York
BEGIN:DAYLIGHT
TZOFFSETFROM:-0500
TZOFFSETTO:-0400
TZNAME:EDT
DTSTART:20240310T070000
END:DAYLIGHT
BEGIN:STANDARD
TZOFFSETFROM:-0400
TZOFFSETTO:-0500
TZNAME:EST
DTSTART:20241103T060000
END:STANDARD
BEGIN:DAYLIGHT
TZOFFSETFROM:-0500
TZOFFSETTO:-0400
TZNAME:EDT
DTSTART:20250309T070000
END:DAYLIGHT
BEGIN:STANDARD
TZOFFSETFROM:-0400
TZOFFSETTO:-0500
TZNAME:EST
DTSTART:20251102T060000
END:STANDARD
BEGIN:DAYLIGHT
TZOFFSETFROM:-0500
TZOFFSETTO:-0400
TZNAME:EDT
DTSTART:20260308T070000
END:DAYLIGHT
BEGIN:STANDARD
TZOFFSETFROM:-0400
TZOFFSETTO:-0500
TZNAME:EST
DTSTART:20261101T060000
END:STANDARD
END:VTIMEZONE
BEGIN:VEVENT
DTSTART;TZID=America/New_York:20250407T100000
DTEND;TZID=America/New_York:20250407T100000
DTSTAMP:20260422T111851
CREATED:20241024T142728Z
LAST-MODIFIED:20250228T153519Z
UID:10001258-1744020000-1744020000@mahaiwe.org
SUMMARY:How to Survive Middle School
DESCRIPTION:60-minute performance\nRecommended for: Ages 9-13 / Grades 4-8 \nComedian Robert Post barely survived Middle School. Struggling because of various learning disabilities\, he found that making people laugh saved him. In this brand new multimedia performance\, kids talk to kids in a compelling\, funny and educational show. Dealing with real issues affecting students today including social media\, testing\, bullying and peer pressure these video testimonials by kids and their advocates (along with a generous dose of Post’s signature humor) is sure to resonate with students. \nOne of Robert Post’s childhood report cards in Columbus\, Ohio\, gave a hint as to how his future might unfold. Not amused by Robert’s antics\, his teacher created a whole new column of categories describing maladaptive behavior. Happily for audiences around the world\, Post stuck with antics. The result: a dazzling performance career that continues to defy categories. \nDownload reservation form to apply
URL:https://mahaiwe.org/event/how-to-survive-middle-school/
LOCATION:Mahaiwe Performing Arts Center\, 14 Castle Street\, Great Barrington\, MA\, 01230
CATEGORIES:Field Trips
ATTACH;FMTTYPE=image/jpeg:https://mahaiwe.org/wp-content/uploads/2024/10/681573981-7aefef8f10c3cd603d2755babc04f20e8ed2ed38e78856c5daf347eb5a75b8fc-d_2400.jpeg
END:VEVENT
END:VCALENDAR