BEGIN:VCALENDAR
VERSION:2.0
PRODID:-//Mahaiwe Performing Arts Center - ECPv6.15.20//NONSGML v1.0//EN
CALSCALE:GREGORIAN
METHOD:PUBLISH
X-WR-CALNAME:Mahaiwe Performing Arts Center
X-ORIGINAL-URL:https://mahaiwe.org
X-WR-CALDESC:Events for Mahaiwe Performing Arts Center
REFRESH-INTERVAL;VALUE=DURATION:PT1H
X-Robots-Tag:noindex
X-PUBLISHED-TTL:PT1H
BEGIN:VTIMEZONE
TZID:America/New_York
BEGIN:DAYLIGHT
TZOFFSETFROM:-0500
TZOFFSETTO:-0400
TZNAME:EDT
DTSTART:20240310T070000
END:DAYLIGHT
BEGIN:STANDARD
TZOFFSETFROM:-0400
TZOFFSETTO:-0500
TZNAME:EST
DTSTART:20241103T060000
END:STANDARD
BEGIN:DAYLIGHT
TZOFFSETFROM:-0500
TZOFFSETTO:-0400
TZNAME:EDT
DTSTART:20250309T070000
END:DAYLIGHT
BEGIN:STANDARD
TZOFFSETFROM:-0400
TZOFFSETTO:-0500
TZNAME:EST
DTSTART:20251102T060000
END:STANDARD
BEGIN:DAYLIGHT
TZOFFSETFROM:-0500
TZOFFSETTO:-0400
TZNAME:EDT
DTSTART:20260308T070000
END:DAYLIGHT
BEGIN:STANDARD
TZOFFSETFROM:-0400
TZOFFSETTO:-0500
TZNAME:EST
DTSTART:20261101T060000
END:STANDARD
END:VTIMEZONE
BEGIN:VEVENT
DTSTART;TZID=America/New_York:20250427T160000
DTEND;TZID=America/New_York:20250427T160000
DTSTAMP:20260420T060341
CREATED:20240910T160051Z
LAST-MODIFIED:20250419T220900Z
UID:10001248-1745769600-1745769600@mahaiwe.org
SUMMARY:Close Encounters With Music: Classical Roots\, Latin Soul– The Dalí String Quartet
DESCRIPTION:TICKETS\n\n$30 – $55  \n$30 Upper Balcony\n$55 Orchestra and Mezzanine \nAlongside Beethoven’s Quartet No. 1 Op. 18 and Mendelssohn’s Op. 80 Quartet\, this program is infused with striking Latin repertoire:  Sonia Morales-Matos’ Divertimento Caribeño No. 3 (dance suites of Caribbean merengue sandwiched around a Cuban bolero) and Astor Piazzolla’s Tango Ballet\, a work that paints pictures through rhythms and melodies.  The Dalí Quartet is Chamber Music America’s 2024 Ensemble of the Year and the 2019 recipient of the Atlanta Symphony’s esteemed Aspire Award for accomplished African American and Latino Musicians\, among other awards. Beethoven’s first of his 16 string quartets contains thematic scaffolding and inspiration from Mozart and Shakespeare’s Romeo and Juliet.  Mendelssohn’s Quartet No. 6 in F minor was written in homage to his sister Fanny\, shortly after her death and just before his.  \n“… beautifully prepared program…the Latin American program alternately glimmered and blazed.” – The Philadelphia Inquirer  \nDalí String Quartet:  Ari Isaacman-Beck\, violin; Carlos Rubio\, violin; Adriana Linares\, viola; Jesus Morales\, cello
URL:https://mahaiwe.org/event/close-encounters-with-music-classical-roots-latin-soul-the-dali-string-quartet/
LOCATION:Mahaiwe Performing Arts Center\, 14 Castle Street\, Great Barrington\, MA\, 01230
CATEGORIES:Music,Opera & Classical
ATTACH;FMTTYPE=image/jpeg:https://mahaiwe.org/wp-content/uploads/2024/08/April-27-Dali-Quartet.jpg
END:VEVENT
END:VCALENDAR