BEGIN:VCALENDAR
VERSION:2.0
PRODID:-//Mahaiwe Performing Arts Center - ECPv6.15.20//NONSGML v1.0//EN
CALSCALE:GREGORIAN
METHOD:PUBLISH
X-ORIGINAL-URL:https://mahaiwe.org
X-WR-CALDESC:Events for Mahaiwe Performing Arts Center
REFRESH-INTERVAL;VALUE=DURATION:PT1H
X-Robots-Tag:noindex
X-PUBLISHED-TTL:PT1H
BEGIN:VTIMEZONE
TZID:America/New_York
BEGIN:DAYLIGHT
TZOFFSETFROM:-0500
TZOFFSETTO:-0400
TZNAME:EDT
DTSTART:20240310T070000
END:DAYLIGHT
BEGIN:STANDARD
TZOFFSETFROM:-0400
TZOFFSETTO:-0500
TZNAME:EST
DTSTART:20241103T060000
END:STANDARD
BEGIN:DAYLIGHT
TZOFFSETFROM:-0500
TZOFFSETTO:-0400
TZNAME:EDT
DTSTART:20250309T070000
END:DAYLIGHT
BEGIN:STANDARD
TZOFFSETFROM:-0400
TZOFFSETTO:-0500
TZNAME:EST
DTSTART:20251102T060000
END:STANDARD
BEGIN:DAYLIGHT
TZOFFSETFROM:-0500
TZOFFSETTO:-0400
TZNAME:EDT
DTSTART:20260308T070000
END:DAYLIGHT
BEGIN:STANDARD
TZOFFSETFROM:-0400
TZOFFSETTO:-0500
TZNAME:EST
DTSTART:20261101T060000
END:STANDARD
END:VTIMEZONE
BEGIN:VEVENT
DTSTART;TZID=America/New_York:20251102T160000
DTEND;TZID=America/New_York:20251102T160000
DTSTAMP:20260424T081645
CREATED:20250904T150010Z
LAST-MODIFIED:20250905T170044Z
UID:10001362-1762099200-1762099200@mahaiwe.org
SUMMARY:Close Encounters With Music: “The Golem” - A Vision in Sound and Cinema with the Avalon String Quartet
DESCRIPTION:TICKETS\n  \n$35 Balcony / $60 Orchestra\nMahaiwe Member Discount Event\n \nMahaiwe Member Sale: \nFriday\, September 5 at noon  \nPublic Sale: \nWednesday\, September 10 at noon \nMahaiwe Members receive $5 off each ticket \nMonsters and magic spells! A masterwork of German expressionist cinema meets a live\, klezmer-infused score in a vibrant feast for the eyes and ears. Paul Wegener’s pioneering 1920 silent horror film Der Golem was so popular on release that it sold out movie houses in both Germany and America for months\, inspired Golem-themed operettas\, and became a critical influence on the 1931 film Frankenstein. Drawn from a medieval Jewish legend\, Der Golem tells the tale of the Jews of 16th-century Prague\, who create a giant figure out of clay to protect themselves—only to see it turn on them with violence. To heighten the atmosphere\, Israeli-born composer Betty Olivero weaves together traditional Yiddish folk tunes and Jewish liturgical music into a haunting score for clarinet and strings. Colorful\, ominous\, and electrifying\, the experience of hearing live musicians accompany the action on the big screen promises to be unforgettable.  \nThe Avalon String Quartet: Blaise Magnière\, violin; Marie Wang\, violin; Anthony Devroye\, viola; Cheng-Hou Lee\, cello\nSaerom Kim\, clarinet; Jonathan Yates\, conductor  \nThe Avalon String Quartet “—an ensemble that invites you—ears\, mind\, and spirit—into its music.” — Chicago Tribune  \n 
URL:https://mahaiwe.org/event/close-encounters-with-music-the-golem-a-vision-in-sound-and-cinema-with-the-avalon-string-quartet/
LOCATION:Mahaiwe Performing Arts Center\, 14 Castle Street\, Great Barrington\, MA\, 01230
CATEGORIES:Music,Opera & Classical
ATTACH;FMTTYPE=image/jpeg:https://mahaiwe.org/wp-content/uploads/2025/09/CEWM_Nov2_New1.jpg
END:VEVENT
END:VCALENDAR