BEGIN:VCALENDAR
VERSION:2.0
PRODID:-//Mahaiwe Performing Arts Center - ECPv6.15.20//NONSGML v1.0//EN
CALSCALE:GREGORIAN
METHOD:PUBLISH
X-ORIGINAL-URL:https://mahaiwe.org
X-WR-CALDESC:Events for Mahaiwe Performing Arts Center
REFRESH-INTERVAL;VALUE=DURATION:PT1H
X-Robots-Tag:noindex
X-PUBLISHED-TTL:PT1H
BEGIN:VTIMEZONE
TZID:America/New_York
BEGIN:DAYLIGHT
TZOFFSETFROM:-0500
TZOFFSETTO:-0400
TZNAME:EDT
DTSTART:20250309T070000
END:DAYLIGHT
BEGIN:STANDARD
TZOFFSETFROM:-0400
TZOFFSETTO:-0500
TZNAME:EST
DTSTART:20251102T060000
END:STANDARD
BEGIN:DAYLIGHT
TZOFFSETFROM:-0500
TZOFFSETTO:-0400
TZNAME:EDT
DTSTART:20260308T070000
END:DAYLIGHT
BEGIN:STANDARD
TZOFFSETFROM:-0400
TZOFFSETTO:-0500
TZNAME:EST
DTSTART:20261101T060000
END:STANDARD
BEGIN:DAYLIGHT
TZOFFSETFROM:-0500
TZOFFSETTO:-0400
TZNAME:EDT
DTSTART:20270314T070000
END:DAYLIGHT
BEGIN:STANDARD
TZOFFSETFROM:-0400
TZOFFSETTO:-0500
TZNAME:EST
DTSTART:20271107T060000
END:STANDARD
END:VTIMEZONE
BEGIN:VEVENT
DTSTART;TZID=America/New_York:20260508T200000
DTEND;TZID=America/New_York:20260508T213000
DTSTAMP:20260422T111556
CREATED:20260217T142543Z
LAST-MODIFIED:20260326T173749Z
UID:10001448-1778270400-1778275800@mahaiwe.org
SUMMARY:Indigo Comedy Night with Christian Finnegan
DESCRIPTION:TICKETS\n\n$30 General Admission (plus processing fees)\nCafé table seating  \n18+   \nWith host Thomas Attila Lewis and featured support  \n\nChristian Finnegan is perhaps best known as one of the original panelists on VH1's Best Week Ever and as Chad\, the only white roommate in Chappelle's Show's infamous "Mad Real World" sketch. He played Martin on the popular syndicated sitcom Are We There Yet? and politics junkies will recognize Christian from his many appearances on Countdown with Keith Olbermann.  \nMost recently\, Christian was the creator and co-host of A&E's Black & White\, which examined current events and social trends through the lens of Race. He can also be heard filling in as a regular guest host on Standup with Pete Dominick on SiriusXM Insight.  \nOver the years\, Christian has been a fixture on Comedy Central\, having starred in his own one hour stand up special Au Contraire\, as well as Comedy Central Presents\, Tough Crowd with Colin Quinn and countless network interstitials. He's also appeared on Conan\, The Late Late Show with James Corden\, Good Morning America and The Today Show.  \nChristian's comedy albums/specials (Two for Flinching\, Au Contraire!\, The Fun Part and 60% Joking) are available on iTunes and Amazon and his standup is in regular rotation on all major streaming services. His latest special Christian Finnegan: Show Your Work was released in October 2021.  \nWhen not on tour\, Christian Finnegan can usually be found in Queens helping his wife\, author Kambri Crews\, with her venue QED Astoria or walking their faithful pooches\, Griswold and Chief Billy Bowlegs.  \n\n\nSponsored by
URL:https://mahaiwe.org/event/indigo-comedy-night-with-christian-finnegan/
LOCATION:Indigo Room\, 20 Castle Street\, Great Barrington\, MA\, 01230\, United States
CATEGORIES:Comedy,Indigo Room,Mahaiwe Presents
ATTACH;FMTTYPE=image/png:https://mahaiwe.org/wp-content/uploads/2026/02/ChristianFinnegan.png
END:VEVENT
END:VCALENDAR