BEGIN:VCALENDAR
VERSION:2.0
PRODID:-//Mahaiwe Performing Arts Center - ECPv6.15.20//NONSGML v1.0//EN
CALSCALE:GREGORIAN
METHOD:PUBLISH
X-ORIGINAL-URL:https://mahaiwe.org
X-WR-CALDESC:Events for Mahaiwe Performing Arts Center
REFRESH-INTERVAL;VALUE=DURATION:PT1H
X-Robots-Tag:noindex
X-PUBLISHED-TTL:PT1H
BEGIN:VTIMEZONE
TZID:America/New_York
BEGIN:DAYLIGHT
TZOFFSETFROM:-0500
TZOFFSETTO:-0400
TZNAME:EDT
DTSTART:20250309T070000
END:DAYLIGHT
BEGIN:STANDARD
TZOFFSETFROM:-0400
TZOFFSETTO:-0500
TZNAME:EST
DTSTART:20251102T060000
END:STANDARD
BEGIN:DAYLIGHT
TZOFFSETFROM:-0500
TZOFFSETTO:-0400
TZNAME:EDT
DTSTART:20260308T070000
END:DAYLIGHT
BEGIN:STANDARD
TZOFFSETFROM:-0400
TZOFFSETTO:-0500
TZNAME:EST
DTSTART:20261101T060000
END:STANDARD
BEGIN:DAYLIGHT
TZOFFSETFROM:-0500
TZOFFSETTO:-0400
TZNAME:EDT
DTSTART:20270314T070000
END:DAYLIGHT
BEGIN:STANDARD
TZOFFSETFROM:-0400
TZOFFSETTO:-0500
TZNAME:EST
DTSTART:20271107T060000
END:STANDARD
END:VTIMEZONE
BEGIN:VEVENT
DTSTART;TZID=America/New_York:20260424T190000
DTEND;TZID=America/New_York:20260424T213000
DTSTAMP:20260421T154106
CREATED:20260217T142906Z
LAST-MODIFIED:20260401T180032Z
UID:10001455-1777057200-1777066200@mahaiwe.org
SUMMARY:Being There (1979)
DESCRIPTION:TICKETS\n$8 / $5 ages 12 and under (plus processing fees)\nConnectorCare/WIC/EBT Card to Culture*  \nBeing There is a comedic political satire directed by Hal Ashby\, starring Peter Sellers\, Shirley MacLaine\, and Melvyn Douglas. Sellers is Chance the gardener\, a.k.a. Chauncey Gardiner\, a misnomer that takes him from servants' quarters to the White House. The film earned Douglas an Academy Award for Best Supporting Actor. (Rated PG\, 2h\, 10min.) \nWant to make sure these movies are appropriate for you or your family? Review the title on Common Sense Media.    \n*We accept ConnectorCare/WIC/EBT cards! Four free tickets to movies or HD broadcasts per individual. Thank you to the donors who make this possible. 
URL:https://mahaiwe.org/event/being-there-1979/
LOCATION:Mahaiwe Performing Arts Center\, 14 Castle Street\, Great Barrington\, MA\, 01230
CATEGORIES:Mahaiwe Presents,Movies
ATTACH;FMTTYPE=image/png:https://mahaiwe.org/wp-content/uploads/2026/02/Screenshot-2026-02-12-at-3.50.09-PM.png
END:VEVENT
END:VCALENDAR