BEGIN:VCALENDAR
VERSION:2.0
PRODID:-//Mahaiwe Performing Arts Center - ECPv6.15.20//NONSGML v1.0//EN
CALSCALE:GREGORIAN
METHOD:PUBLISH
X-ORIGINAL-URL:https://mahaiwe.org
X-WR-CALDESC:Events for Mahaiwe Performing Arts Center
REFRESH-INTERVAL;VALUE=DURATION:PT1H
X-Robots-Tag:noindex
X-PUBLISHED-TTL:PT1H
BEGIN:VTIMEZONE
TZID:America/New_York
BEGIN:DAYLIGHT
TZOFFSETFROM:-0500
TZOFFSETTO:-0400
TZNAME:EDT
DTSTART:20240310T070000
END:DAYLIGHT
BEGIN:STANDARD
TZOFFSETFROM:-0400
TZOFFSETTO:-0500
TZNAME:EST
DTSTART:20241103T060000
END:STANDARD
BEGIN:DAYLIGHT
TZOFFSETFROM:-0500
TZOFFSETTO:-0400
TZNAME:EDT
DTSTART:20250309T070000
END:DAYLIGHT
BEGIN:STANDARD
TZOFFSETFROM:-0400
TZOFFSETTO:-0500
TZNAME:EST
DTSTART:20251102T060000
END:STANDARD
BEGIN:DAYLIGHT
TZOFFSETFROM:-0500
TZOFFSETTO:-0400
TZNAME:EDT
DTSTART:20260308T070000
END:DAYLIGHT
BEGIN:STANDARD
TZOFFSETFROM:-0400
TZOFFSETTO:-0500
TZNAME:EST
DTSTART:20261101T060000
END:STANDARD
END:VTIMEZONE
BEGIN:VEVENT
DTSTART;TZID=America/New_York:20251205T173000
DTEND;TZID=America/New_York:20251205T190000
DTSTAMP:20260420T133744
CREATED:20250813T134400Z
LAST-MODIFIED:20251205T192119Z
UID:10001353-1764955800-1764961200@mahaiwe.org
SUMMARY:Isaiah J. Thompson Quartet: A Guaraldi Holiday
DESCRIPTION:TICKETS\n  \n$50 – $80 \n$50 Row seating (rows 4-5)\n$80 Café table seating (rows 1-3)  \nIsaiah J. Thompson is the winner of the 2023 American Pianists Awards and the Cole Porter Fellowship in Jazz of the American Pianists Association. Originally from West Orange\, New Jersey\, the pianist\, bandleader and composer began studying at The Calderone School of Music from an early age. Soon after\, Isaiah continued his studies with Jazz House Kids and NJPAC Jazz For Teens and was later admitted to The Juilliard School graduating with both his Bachelor’s in 2019 and Master’s of Music degrees in 2020.  \nIsaiah has performed with major artists\, including Ron Carter\, John Pizzarelli\, Christian McBride\, Cécile McLorin Salvant\, Steve Turre and Buster Williams. His recording debut was featured on Jazz at Lincoln Center’s Blue Engine Records’ Handful of Keys album with the Jazz at Lincoln Center Orchestra with Wynton Marsalis\, and he has since released multiple recordings as a leader.  \nHe worked on the Golden Globe nominated soundtrack for Motherless Brooklyn\, was named a Steinway Artist and has been awarded other accolades including\, the 2018 Lincoln Center Emerging Artist Award\, and second place in the 2018 Thelonious Monk Competition. As a performer\, Isaiah tries to emit love\, spirit and respect and convey his personal experiences through his artistry and his everlasting love of jazz.  \n \n 
URL:https://mahaiwe.org/event/isaiah-j-thompson-quartet-a-guaraldi-holiday/2025-12-05/3/
LOCATION:Indigo Room\, 20 Castle Street\, Great Barrington\, MA\, 01230\, United States
CATEGORIES:Indigo Room,Mahaiwe Presents,Music
ATTACH;FMTTYPE=image/jpeg:https://mahaiwe.org/wp-content/uploads/2025/08/MAC1213-Isaiah-J-Thompson-by-Evelyn-Freja-300dpi-RGB-PR16127-scaled.jpg
END:VEVENT
BEGIN:VEVENT
DTSTART;TZID=America/New_York:20251205T203000
DTEND;TZID=America/New_York:20251205T220000
DTSTAMP:20260420T133744
CREATED:20250813T134400Z
LAST-MODIFIED:20251205T192119Z
UID:10001348-1764966600-1764972000@mahaiwe.org
SUMMARY:Isaiah J. Thompson Quartet: A Guaraldi Holiday
DESCRIPTION:TICKETS\n  \n$50 – $80 \n$50 Row seating (rows 4-5)\n$80 Café table seating (rows 1-3)  \nIsaiah J. Thompson is the winner of the 2023 American Pianists Awards and the Cole Porter Fellowship in Jazz of the American Pianists Association. Originally from West Orange\, New Jersey\, the pianist\, bandleader and composer began studying at The Calderone School of Music from an early age. Soon after\, Isaiah continued his studies with Jazz House Kids and NJPAC Jazz For Teens and was later admitted to The Juilliard School graduating with both his Bachelor’s in 2019 and Master’s of Music degrees in 2020.  \nIsaiah has performed with major artists\, including Ron Carter\, John Pizzarelli\, Christian McBride\, Cécile McLorin Salvant\, Steve Turre and Buster Williams. His recording debut was featured on Jazz at Lincoln Center’s Blue Engine Records’ Handful of Keys album with the Jazz at Lincoln Center Orchestra with Wynton Marsalis\, and he has since released multiple recordings as a leader.  \nHe worked on the Golden Globe nominated soundtrack for Motherless Brooklyn\, was named a Steinway Artist and has been awarded other accolades including\, the 2018 Lincoln Center Emerging Artist Award\, and second place in the 2018 Thelonious Monk Competition. As a performer\, Isaiah tries to emit love\, spirit and respect and convey his personal experiences through his artistry and his everlasting love of jazz.  \n \n 
URL:https://mahaiwe.org/event/isaiah-j-thompson-quartet-a-guaraldi-holiday/2025-12-05/4/
LOCATION:Indigo Room\, 20 Castle Street\, Great Barrington\, MA\, 01230\, United States
CATEGORIES:Indigo Room,Mahaiwe Presents,Music
ATTACH;FMTTYPE=image/jpeg:https://mahaiwe.org/wp-content/uploads/2025/08/MAC1213-Isaiah-J-Thompson-by-Evelyn-Freja-300dpi-RGB-PR16127-scaled.jpg
END:VEVENT
BEGIN:VEVENT
DTSTART;TZID=America/New_York:20251206T200000
DTEND;TZID=America/New_York:20251206T200000
DTSTAMP:20260420T133744
CREATED:20250902T140058Z
LAST-MODIFIED:20251125T165004Z
UID:10001361-1765051200-1765051200@mahaiwe.org
SUMMARY:ARKAI
DESCRIPTION:TICKETS\n  \n$25 General Admission\nCafé table and row seating\, first-come\, first-served \nARKAI is an award-winning electro-acoustic duo that has captivated audiences around the world with their creative imagination and cutting-edge string music. Transforming the beautiful tones of the violin and cello into epic soundscapes that resemble a rock band backed by a cinematic orchestra\, ARKAI’s signature sound has led them to hundreds of performances around the world including Grammys On The Hill and Carnegie Hall\, opening for Grammy- and Oscar-winning musician Jon Batiste\, and NBA playoff shows for the LA Lakers. They’ve also collaborated with celebrity photographer David LaChapelle for Milan Design Week\, toured with superstar violinist Lindsey Stirling\, and released viral hits with piano sensation Tony Ann. ARKAI recently joined Ann on an extensive international tour that included legendary venues like the Troubadour (Los Angeles)\, Barbican Centre (London)\, and L’Olympia (Paris). 
URL:https://mahaiwe.org/event/arkai/
LOCATION:Indigo Room\, 20 Castle Street\, Great Barrington\, MA\, 01230\, United States
CATEGORIES:Indigo Room,Mahaiwe Presents,Music
ATTACH;FMTTYPE=image/jpeg:https://mahaiwe.org/wp-content/uploads/2025/08/arkai-web.jpg
END:VEVENT
BEGIN:VEVENT
DTSTART;TZID=America/New_York:20251207T160000
DTEND;TZID=America/New_York:20251207T160000
DTSTAMP:20260420T133744
CREATED:20250904T150011Z
LAST-MODIFIED:20251119T215124Z
UID:10001363-1765123200-1765123200@mahaiwe.org
SUMMARY:Close Encounters With Music: Vivace Chamber Orchestra – Mozart\, Mendelssohn\, Britten\, Bruch
DESCRIPTION:TICKETS$35 Balcony / $60 Orchestra\nMahaiwe Member Discount Event\n \n  \nThe Vivace players return! This New York-based chamber music collective shares the aim of performing the greatest works in the repertoire at the highest level. Their program is curated to showcase both unity of ensemble and rare musicianship. Looking back\, Mozart's Adagio and Fugue in C minor employs Bach's contrapuntal style but pushes into daring\, unexpected harmonies that sound as though they were composed a century later. Mendelssohn's miraculous Octet in E-flat major bursts with youthful verve and brilliance. At just 16\, he directed in the score that "This Octet must be played by all the instruments in symphonic orchestral style." Britten's Simple Symphony movements reveal his sense of fun and wit\, while Max Bruch's Kol Nidrei speaks in a universal voice—moving from supplication to promise and redemption.  \nVivace Chamber Orchestra\nYehuda Hanani\, cello 
URL:https://mahaiwe.org/event/close-encounters-with-music-vivace-chamber-orchestra-mozart-mendelssohn-britten-bruch/
LOCATION:Mahaiwe Performing Arts Center\, 14 Castle Street\, Great Barrington\, MA\, 01230
CATEGORIES:Music,Opera & Classical
ATTACH;FMTTYPE=image/jpeg:https://mahaiwe.org/wp-content/uploads/2025/09/CEWM_Dec2-crop.jpg
END:VEVENT
BEGIN:VEVENT
DTSTART;TZID=America/New_York:20251220T200000
DTEND;TZID=America/New_York:20251220T200000
DTSTAMP:20260420T133744
CREATED:20250902T140045Z
LAST-MODIFIED:20251119T215305Z
UID:10001360-1766260800-1766260800@mahaiwe.org
SUMMARY:John Pizzarelli Trio: Tony Bennett – The Art of Excellence
DESCRIPTION:TICKETS$44 – $89\nMahaiwe Member & Youth Discount Event  \n$44 Limited Upper Balcony \n$64 Reserved \n$79 Preferred \n$89 Premium  \nMembers receive $5 off Reserved through Premium tickets\n$15 ages 30 and under (visit the Box Office or call 413-528-0100\, Wed – Sat\, 12-4pm)  \nGrammy Award-winning producer and guitarist extraordinaire\, John Pizzarelli salutes the legendary Tony Bennett celebrating over 60 years of unparalleled artistry. From Bennett's '50s pop hits like "Because of You" and "Rags to Riches" through his timeless classics of the '60s such as "I Wanna Be Around" and "I Left My Heart in San Francisco\," to his remarkable collaborations with Bill Evans\, Pizzarelli's trio will bring these iconic songs to life once again. The evening will also highlight Bennett's incredible revival in the '90s while Pizzarelli weaves in personal anecdotes and stories that reveal the man behind the music. Prepare for a night filled with unforgettable music as the John Pizzarelli Trio honors this generational talent. 
URL:https://mahaiwe.org/event/john-pizzarelli-trio-tony-bennett-the-art-of-excellence/
LOCATION:Mahaiwe Performing Arts Center\, 14 Castle Street\, Great Barrington\, MA\, 01230
CATEGORIES:Mahaiwe Presents,Music
ATTACH;FMTTYPE=image/jpeg:https://mahaiwe.org/wp-content/uploads/2025/08/John-Pizzarelli_Shot_3_064_CU-scaled.jpg
END:VEVENT
BEGIN:VEVENT
DTSTART;TZID=America/New_York:20251231T180000
DTEND;TZID=America/New_York:20251231T180000
DTSTAMP:20260420T133744
CREATED:20250915T140012Z
LAST-MODIFIED:20251119T215559Z
UID:10001369-1767204000-1767204000@mahaiwe.org
SUMMARY:Berkshire Bach Society presents: Bach at New Year’s - The Six ‘Brandenburg’ Concertos
DESCRIPTION:TICKETS\n$50 – $85 \n$50 Upper Balcony \n$70 Orchestra & Mezzanine \n$85 Opera Box   \nThe Berkshire Bach Society presents Bach at New Year's: The Six 'Brandenburg Concertos'\, an event that has been a holiday tradition since 1993. Nine-time Grammy Award winner and Artistic Director Eugene Drucker leads the Berkshire Bach Ensemble in the iconic works that started it all. Join Berkshire Bach for an evening of great music and dazzling performances and start your New Year on a high note. 
URL:https://mahaiwe.org/event/berkshire-bach-society-presents-bach-at-new-years-the-six-brandenburg-concertos/
LOCATION:Mahaiwe Performing Arts Center\, 14 Castle Street\, Great Barrington\, MA\, 01230
CATEGORIES:Music,Opera & Classical
ATTACH;FMTTYPE=image/jpeg:https://mahaiwe.org/wp-content/uploads/2025/09/Bach-at-New-Years-Image-for-2024.jpg
END:VEVENT
END:VCALENDAR