BEGIN:VCALENDAR
VERSION:2.0
PRODID:-//Mahaiwe Performing Arts Center - ECPv6.15.20//NONSGML v1.0//EN
CALSCALE:GREGORIAN
METHOD:PUBLISH
X-WR-CALNAME:Mahaiwe Performing Arts Center
X-ORIGINAL-URL:https://mahaiwe.org
X-WR-CALDESC:Events for Mahaiwe Performing Arts Center
REFRESH-INTERVAL;VALUE=DURATION:PT1H
X-Robots-Tag:noindex
X-PUBLISHED-TTL:PT1H
BEGIN:VTIMEZONE
TZID:America/New_York
BEGIN:DAYLIGHT
TZOFFSETFROM:-0500
TZOFFSETTO:-0400
TZNAME:EDT
DTSTART:20250309T070000
END:DAYLIGHT
BEGIN:STANDARD
TZOFFSETFROM:-0400
TZOFFSETTO:-0500
TZNAME:EST
DTSTART:20251102T060000
END:STANDARD
BEGIN:DAYLIGHT
TZOFFSETFROM:-0500
TZOFFSETTO:-0400
TZNAME:EDT
DTSTART:20260308T070000
END:DAYLIGHT
BEGIN:STANDARD
TZOFFSETFROM:-0400
TZOFFSETTO:-0500
TZNAME:EST
DTSTART:20261101T060000
END:STANDARD
BEGIN:DAYLIGHT
TZOFFSETFROM:-0500
TZOFFSETTO:-0400
TZNAME:EDT
DTSTART:20270314T070000
END:DAYLIGHT
BEGIN:STANDARD
TZOFFSETFROM:-0400
TZOFFSETTO:-0500
TZNAME:EST
DTSTART:20271107T060000
END:STANDARD
END:VTIMEZONE
BEGIN:VEVENT
DTSTART;TZID=America/New_York:20260712T200000
DTEND;TZID=America/New_York:20260712T213000
DTSTAMP:20260422T060950
CREATED:20260127T140024Z
LAST-MODIFIED:20260326T175646Z
UID:10001435-1783886400-1783891800@mahaiwe.org
SUMMARY:Tab Benoit
DESCRIPTION:TICKETS\n$35 – $55 (plus processing fees)\nMahaiwe Member & Youth Discount Event  \n$35 Reserved \n$45 Preferred \n$55 Premium  \nMembers receive $5 off each ticket  \n$15 ages 30 and under (visit the Box Office or call 413-528-0100\, Wed – Sat\, 12-4pm)   \nJoin us for an exhilarating evening as the legendary multi-Grammy nominee and wetlands activist Tab Benoit brings his high-energy Soul of the Swamp Tour 2026 to stages across America. Known for his passionate performances and deep-rooted connection to the swamp\, Tab Benoit is a true master of his craft\, boasting over 20 releases that showcase his unique artistry.  \n With iconic radio hits like “Nice and Warm” and “Cross the Line” from his 90s recordings\, critics have often described Benoit’s voice as “Otis Redding-ish\,” while his guitar playing is celebrated for its originality and distinctive style. In 2024\, he made a triumphant return with his first recording in 13 years\, I Hear Thunder\, signaling that his best work is yet to come.  \n On the Soul of the Swamp Tour\, Tab will take you on a musical journey\, performing songs from his vast catalog and digging deep into the rich tones and storytelling lyrics that have made him an admired figure in the music world. True to his authentic style\, Tab performs without effects—just a guitar\, a cord\, and an amp—allowing the magic of his music to shine through his hands \, fingers\, and his band.  \nOpening Act: Sgt. Splendor  \nPhoto by Jean Frank Photography
URL:https://mahaiwe.org/event/tab-benoit/
LOCATION:Mahaiwe Performing Arts Center\, 14 Castle Street\, Great Barrington\, MA\, 01230
CATEGORIES:Mahaiwe Presents,Music
ATTACH;FMTTYPE=image/png:https://mahaiwe.org/wp-content/uploads/2026/01/tab-crop-scaled.png
END:VEVENT
BEGIN:VEVENT
DTSTART;TZID=America/New_York:20260716T200000
DTEND;TZID=America/New_York:20260716T213000
DTSTAMP:20260422T060950
CREATED:20260414T160031Z
LAST-MODIFIED:20260413T161113Z
UID:10001476-1784232000-1784237400@mahaiwe.org
SUMMARY:John Waite
DESCRIPTION:TICKETS–\n$45 – $65 (plus processing fees)\nMahaiwe Member & Youth Discount Event  \nMember Sale: \nWednesday\, April 15 at noon  \nPublic Sale: \nFriday\, April 17 at noon  \n$45 Reserved\n$55 Preferred\n$65 Premium  \nJohn will be performing his catalogue of hits from his 40-year career as both a solo artist and a member of iconic rock bands The Babys and Bad English.  \nJohn Waite’s catalogue of hits features some of the most loved songs of the ‘80s and ‘90s – the number one worldwide hit “Missing You\,” The Babys’ “Isn’t It Time” and Bad English’s “When I See You Smile” rank amongst some of his biggest international hits and are still heard on radio today. Others include “Tears\,” “Change” and “These Times Are Hard for Lovers.” “Every Step of the Way” and “If Anybody Had a Heart” appeared on the soundtrack to the 1986 Demi Moore film About Last Night. “Deal for Life\,” penned by Martin Page and Bernie Taupin\, was featured in the Days of Thunder soundtrack.   \nAs a solo artist and as the lead singer of The Babys and Bad English\, John Waite was a fixture of album-oriented rock radio stations during the ’70s and ’80s. John Waite has a talent for power ballads and driving arena rock\, occasionally touching on new wave-styled power pop as well. 
URL:https://mahaiwe.org/event/john-waite/
LOCATION:Mahaiwe Performing Arts Center\, 14 Castle Street\, Great Barrington\, MA\, 01230
CATEGORIES:Mahaiwe Presents,Music
ATTACH;FMTTYPE=image/jpeg:https://mahaiwe.org/wp-content/uploads/2026/04/CSP_4244_pp-1-scaled.jpg
END:VEVENT
BEGIN:VEVENT
DTSTART;TZID=America/New_York:20260724T200000
DTEND;TZID=America/New_York:20260724T213000
DTSTAMP:20260422T060950
CREATED:20260310T150053Z
LAST-MODIFIED:20260421T202211Z
UID:10001466-1784923200-1784928600@mahaiwe.org
SUMMARY:Branford Marsalis Quartet
DESCRIPTION:TICKETS\n$69 – $99 (plus processing fees)\nMahaiwe Member & Youth Discount Event   \n$69 Reserved\n$79 Preferred\n$99 Premium  \nMembers receive $5 off each ticket \n$15 ages 30 and under (visit the Box Office or call 413-528-0100\, Wed – Sat\, 12-4pm)  \nSaxophonist Branford Marsalis is one of the most influential and revered figures in contemporary music. The NEA Jazz Master\, Grammy Award winner\, and Tony and Emmy Award nominee is equally at home performing concertos with symphony orchestras and sitting in with members of the Grateful Dead\, but the core of his musical universe remains the Branford Marsalis Quartet. After more than three decades of existence with minimal personnel changes\, this celebrated ensemble is revered for its uncompromising interpretation of a kaleidoscopic range of both original compositions and jazz and popular classics. After receiving Grammy nominations on its last two albums\, Upward Spiral and The Secret Between the Shadow and the Soul\, the Quartet made its Blue Note Records debut with the release of Belonging\, a full album interpretation of Keith Jarrett's 1974 ECM album of the same name. The New York Times commented "Marsalis has tackled imposing jazz masterworks before…but at its best\, his 'Belonging' goes deeper…it's a performance that both honors and amplifies." John Zeugner captured the impact of the Quartet in a review of a live performance\, calling it "casually confident\, professional\, cerebral\, and supercharged with energy. The Branford Marsalis Quartet…was all of those adjectives and more."  
URL:https://mahaiwe.org/event/branford-marsalis-quartet/
LOCATION:Mahaiwe Performing Arts Center\, 14 Castle Street\, Great Barrington\, MA\, 01230
CATEGORIES:Mahaiwe Presents,Music
ATTACH;FMTTYPE=image/jpeg:https://mahaiwe.org/wp-content/uploads/2026/03/BMQ1_Zach-Smith-scaled.jpg
END:VEVENT
BEGIN:VEVENT
DTSTART;TZID=America/New_York:20260731T200000
DTEND;TZID=America/New_York:20260731T213000
DTSTAMP:20260422T060950
CREATED:20260414T160045Z
LAST-MODIFIED:20260413T162100Z
UID:10001477-1785528000-1785533400@mahaiwe.org
SUMMARY:An Evening with Heather Headley
DESCRIPTION:TICKETS–\n$55 – $95 (plus processing fees)\nMahaiwe Member & Youth Discount Event  \nMember Sale: \nWednesday\, April 15 at noon  \nPublic Sale: \nFriday\, April 17 at noon  \n$55 Limited Upper Balcony\n$65 Reserved\n$79 Preferred\n$95 Premium  \nMembers receive $5 off each ticket \n$15 ages 30 and under (visit the Box Office or call 413-528-0100\, Wed – Sat\, 12-4pm)  \n“Heather Headley is among the top singers with a vocal that absolutely astounds with its intensity… This woman is one of the great entertainers of the day\, on record and on stage” –Billboard Magazine \nTony and Grammy Award winner Heather Headley considers her multi-faceted career a blessing. She was born and spent most of her childhood on the beautiful Caribbean island of Trinidad. The family moved to the United States in the early ‘90s where Heather’s love for the arts continued. \nIn 1997 Heather won the role of Nala in the original Broadway cast of the Elton John and Tim Rice’s hit Tony winning musical The Lion King. While still in The Lion King\, Heather was asked to audition for the title role in the writing duo’s next Broadway venture together\, Elton John and Tim Rice’s Aida. Her portrayal of the Nubian princess\, Aida\, won her the praise of critics and the prestigious Tony Award for Best Actress in a Musical. In addition to other awards\, she also received the coveted Drama Desk Award for Outstanding Actress in a Musical. That year she was listed as one of People Magazine’s 50 Most Beautiful People and Essence Magazine’s 30 Women To Watch. In 2012 Heather made a triumphant return to the stage\, starring in The Bodyguard in London’s West End\, where she gained the critics praise and a new fan base overseas. \nHeather continued her musical success on the pop charts with her 2002 debut album on RCA Records\, This Is Who I Am which featured productions by several top-flight producers. Two songs\, “He Is” and the album track “I Wish I Wasn’t\,” both emerged as Top 5 R&B and Dance chart hits. Heather earned numerous accolades for This Is Who I Am\, including Grammy Award nominations for Best New Artist and Best Female R&B Vocal Performance. Heather returned in January 2006 with In My Mind\, her long-awaited second solo album. The opening title tune single became Heather’s first number one hit\, topping the Dance and R&B charts.  \nIn 2009 Heather released Audience of One for which she won the Grammy Award for the Best Contemporary R&B Gospel Album. In 2012 she released Only One In The World\, an album that featured songs that Heather wrote as well as some of her favorite covers. To the audience’s and critics’ delight\, Heather made her return to Broadway in 2016 starring in the Tony Award-winning The Color Purple\, in the role of Shug Avery. In 2018\, Heather had a recurring role on Chicago Med playing the formidable Gwen Garrett. In 2021 Heather won the critics’ praise for her role of the Witch in the New York City Center’s production of Into The Woods. Heather can currently be seen as a series regular on the Netflix series Sweet Magnolias.  \nSponsored by
URL:https://mahaiwe.org/event/an-evening-with-heather-headley/
LOCATION:Mahaiwe Performing Arts Center\, 14 Castle Street\, Great Barrington\, MA\, 01230
CATEGORIES:Mahaiwe Presents,Music
ATTACH;FMTTYPE=image/jpeg:https://mahaiwe.org/wp-content/uploads/2026/04/Heather-Headley-Solo-1-scaled.jpeg
END:VEVENT
END:VCALENDAR