BEGIN:VCALENDAR
VERSION:2.0
PRODID:-//Mahaiwe Performing Arts Center - ECPv6.15.20//NONSGML v1.0//EN
CALSCALE:GREGORIAN
METHOD:PUBLISH
X-ORIGINAL-URL:https://mahaiwe.org
X-WR-CALDESC:Events for Mahaiwe Performing Arts Center
REFRESH-INTERVAL;VALUE=DURATION:PT1H
X-Robots-Tag:noindex
X-PUBLISHED-TTL:PT1H
BEGIN:VTIMEZONE
TZID:America/New_York
BEGIN:DAYLIGHT
TZOFFSETFROM:-0500
TZOFFSETTO:-0400
TZNAME:EDT
DTSTART:20250309T070000
END:DAYLIGHT
BEGIN:STANDARD
TZOFFSETFROM:-0400
TZOFFSETTO:-0500
TZNAME:EST
DTSTART:20251102T060000
END:STANDARD
BEGIN:DAYLIGHT
TZOFFSETFROM:-0500
TZOFFSETTO:-0400
TZNAME:EDT
DTSTART:20260308T070000
END:DAYLIGHT
BEGIN:STANDARD
TZOFFSETFROM:-0400
TZOFFSETTO:-0500
TZNAME:EST
DTSTART:20261101T060000
END:STANDARD
BEGIN:DAYLIGHT
TZOFFSETFROM:-0500
TZOFFSETTO:-0400
TZNAME:EDT
DTSTART:20270314T070000
END:DAYLIGHT
BEGIN:STANDARD
TZOFFSETFROM:-0400
TZOFFSETTO:-0500
TZNAME:EST
DTSTART:20271107T060000
END:STANDARD
END:VTIMEZONE
BEGIN:VEVENT
DTSTART;TZID=America/New_York:20260605T200000
DTEND;TZID=America/New_York:20260605T213000
DTSTAMP:20260420T053843
CREATED:20260127T140036Z
LAST-MODIFIED:20260311T201059Z
UID:10001436-1780689600-1780695000@mahaiwe.org
SUMMARY:Ben Folds & A Piano Tour
DESCRIPTION:TICKETS\n\n$65 – $120 (plus processing fees)\nMahaiwe Member & Youth Discount Event \n$65 Limited Upper Balcony \n$80 Reserved \n$95 Preferred \n$120 Premium  \nMembers receive $5 off Reserved\, Preferred\, and Premium tickets\n$15 ages 30 and under (visit the Box Office or call 413-528-0100\, Wed – Sat\, 12-4pm)  \n\nBen Folds is an Emmy-nominated singer-songwriter who has created an enormous body of genre-bending music that includes pop albums with Ben Folds Five\, multiple solo albums\, a holiday album\, and numerous collaborative records. \n\n\nHe currently tours as a pop artist\, while also performing for over two decades with some of the world’s greatest symphony orchestras. \n\n\nFolds\, who served for eight years as the first ever Artistic Advisor to the National Symphony Orchestra (NSO) at the Kennedy Center in Washington\, DC\, stepped down from his post when Donald Trump announced his takeover of the Center. Just days before the US presidential election\, Folds recorded two sold out performances with the NSO which he released as a live album in 2025 that debuted at the top of the Billboard classical and classical crossover charts. \n\n\nA New York Times Best Selling author\, Ben also creates new music for film\, tv and theatre\, including original songs for an ongoing series of animated Peanuts specials on Apple TV. \n\n\nIn 2022\, he launched a music education charitable initiative in his native state of North Carolina entitled “Keys For Kids\,” which provides funds and keyboards to existing nonprofits that offer free or affordable piano lessons to school-age children from economically disadvantaged households. For the past 15 years he has been an outspoken advocate for arts funding\, music education and music therapy in the US as a member of Americans For The Arts and the Arts Action Fund. \n\n–\nSponsored by
URL:https://mahaiwe.org/event/ben-folds-a-piano-tour/
LOCATION:Mahaiwe Performing Arts Center\, 14 Castle Street\, Great Barrington\, MA\, 01230
CATEGORIES:Mahaiwe Presents,Music
ATTACH;FMTTYPE=image/jpeg:https://mahaiwe.org/wp-content/uploads/2026/01/Ben-at-the-piano86-scaled.jpg
END:VEVENT
END:VCALENDAR