BEGIN:VCALENDAR
VERSION:2.0
PRODID:-//Mahaiwe Performing Arts Center - ECPv6.15.20//NONSGML v1.0//EN
CALSCALE:GREGORIAN
METHOD:PUBLISH
X-ORIGINAL-URL:https://mahaiwe.org
X-WR-CALDESC:Events for Mahaiwe Performing Arts Center
REFRESH-INTERVAL;VALUE=DURATION:PT1H
X-Robots-Tag:noindex
X-PUBLISHED-TTL:PT1H
BEGIN:VTIMEZONE
TZID:America/New_York
BEGIN:DAYLIGHT
TZOFFSETFROM:-0500
TZOFFSETTO:-0400
TZNAME:EDT
DTSTART:20250309T070000
END:DAYLIGHT
BEGIN:STANDARD
TZOFFSETFROM:-0400
TZOFFSETTO:-0500
TZNAME:EST
DTSTART:20251102T060000
END:STANDARD
BEGIN:DAYLIGHT
TZOFFSETFROM:-0500
TZOFFSETTO:-0400
TZNAME:EDT
DTSTART:20260308T070000
END:DAYLIGHT
BEGIN:STANDARD
TZOFFSETFROM:-0400
TZOFFSETTO:-0500
TZNAME:EST
DTSTART:20261101T060000
END:STANDARD
BEGIN:DAYLIGHT
TZOFFSETFROM:-0500
TZOFFSETTO:-0400
TZNAME:EDT
DTSTART:20270314T070000
END:DAYLIGHT
BEGIN:STANDARD
TZOFFSETFROM:-0400
TZOFFSETTO:-0500
TZNAME:EST
DTSTART:20271107T060000
END:STANDARD
END:VTIMEZONE
BEGIN:VEVENT
DTSTART;TZID=America/New_York:20260321T200000
DTEND;TZID=America/New_York:20260321T213000
DTSTAMP:20260420T071031
CREATED:20260109T150001Z
LAST-MODIFIED:20260226T154837Z
UID:10001428-1774123200-1774128600@mahaiwe.org
SUMMARY:Amanda Pascali
DESCRIPTION:TICKETS– \n$35\, General Admission \nCafé table seating  \nAmanda Pascali embodies the complexity of modern identity. Born to a mother from Cairo who grew up in France and an Italian father raised in Romania\, she's a mixed-race\, bilingual Gen Z troubadour perpetually caught between worlds. Quoting poet Ijeoma Umebinyuo\, she says\, "I'm often 'too foreign for here\, too foreign for home\, and never enough for both.'" Rather than lamenting this displacement\, Pascali has transformed it into her artistic superpower.  \nAs the rising voice of America's most ethnically diverse generation of young people\, singer-songwriter Amanda Pascali writes music that speaks to the experience of growing up as a first-generation American. After her songs went viral on social media\, she amassed hundreds of thousands of fans around the globe. Now\, her long-awaited new record\, Roses and Basil (a collection of Sicilian-English translations and original music produced by Robert Ellis\,) has been praised by NPR\, the Bluegrass Situation\, and numerous international outlets.  \n\nSponsored by
URL:https://mahaiwe.org/event/amanda-pascali/
LOCATION:Indigo Room\, 20 Castle Street\, Great Barrington\, MA\, 01230\, United States
CATEGORIES:Indigo Room,Mahaiwe Presents,Music
ATTACH;FMTTYPE=image/webp:https://mahaiwe.org/wp-content/uploads/2026/01/DSC6797.webp
END:VEVENT
END:VCALENDAR