BEGIN:VCALENDAR
VERSION:2.0
PRODID:-//Mahaiwe Performing Arts Center - ECPv6.15.20//NONSGML v1.0//EN
CALSCALE:GREGORIAN
METHOD:PUBLISH
X-WR-CALNAME:Mahaiwe Performing Arts Center
X-ORIGINAL-URL:https://mahaiwe.org
X-WR-CALDESC:Events for Mahaiwe Performing Arts Center
REFRESH-INTERVAL;VALUE=DURATION:PT1H
X-Robots-Tag:noindex
X-PUBLISHED-TTL:PT1H
BEGIN:VTIMEZONE
TZID:America/New_York
BEGIN:DAYLIGHT
TZOFFSETFROM:-0500
TZOFFSETTO:-0400
TZNAME:EDT
DTSTART:20240310T070000
END:DAYLIGHT
BEGIN:STANDARD
TZOFFSETFROM:-0400
TZOFFSETTO:-0500
TZNAME:EST
DTSTART:20241103T060000
END:STANDARD
BEGIN:DAYLIGHT
TZOFFSETFROM:-0500
TZOFFSETTO:-0400
TZNAME:EDT
DTSTART:20250309T070000
END:DAYLIGHT
BEGIN:STANDARD
TZOFFSETFROM:-0400
TZOFFSETTO:-0500
TZNAME:EST
DTSTART:20251102T060000
END:STANDARD
BEGIN:DAYLIGHT
TZOFFSETFROM:-0500
TZOFFSETTO:-0400
TZNAME:EDT
DTSTART:20260308T070000
END:DAYLIGHT
BEGIN:STANDARD
TZOFFSETFROM:-0400
TZOFFSETTO:-0500
TZNAME:EST
DTSTART:20261101T060000
END:STANDARD
END:VTIMEZONE
BEGIN:VEVENT
DTSTART;TZID=America/New_York:20250904T190000
DTEND;TZID=America/New_York:20250904T190000
DTSTAMP:20260420T060326
CREATED:20250522T145137Z
LAST-MODIFIED:20250730T181241Z
UID:10001323-1757012400-1757012400@mahaiwe.org
SUMMARY:100 Years of Movies: Do the Right Thing (1989)
DESCRIPTION:TICKETS$8 \nConnectorCare/WIC/SUN Bucks/EBT Card to Culture* \nTensions are high and rise with the heat in this critically acclaimed Brooklyn story from director Spike Lee. Mookie (Lee) navigates the hottest day of the year in the neighborhood of Bed-Stuy\, mitigating family matters\, race relations\, work\, police\, and more. (Rated R\, 2h.)  \nFollowing last year's success\, the Mahaiwe will continue its "100 Years of Movies" series with film director and educator Deborah Reinisch. Reinisch will introduce each film with a brief lecture at the top of the screening.  \nWant to make sure these movies are appropriate for you or your family? Review the title on Common Sense Media.  \n*We accept ConnectorCare/WIC/SUN Bucks/EBT cards! Four free tickets to movies or HD broadcasts per individual. Thank you to the donors who make this possible. 
URL:https://mahaiwe.org/event/100-years-of-movies-do-the-right-thing-1989/
LOCATION:Mahaiwe Performing Arts Center\, 14 Castle Street\, Great Barrington\, MA\, 01230
CATEGORIES:Mahaiwe Presents,Movies
ATTACH;FMTTYPE=image/jpeg:https://mahaiwe.org/wp-content/uploads/2025/05/etyhjRp5sHCCvtZ32aHg6CVtr3K.jpeg
END:VEVENT
BEGIN:VEVENT
DTSTART;TZID=America/New_York:20250906T150000
DTEND;TZID=America/New_York:20250906T150000
DTSTAMP:20260420T060326
CREATED:20250624T160001Z
LAST-MODIFIED:20250811T194634Z
UID:10001335-1757170800-1757170800@mahaiwe.org
SUMMARY:Inside Out (2015\, en español)
DESCRIPTION:RESERVA\n  \nGRATIS\, Se requieren reservaciones\nProyectada en español con subtítulos en inglés   \nIntensa-mente 1 sigue la historia de la joven Riley y sus emociones personificadas mientras la niña de 11 años se traslada al otro lado del país con su familia. Esta película de animación es favorita de las familias por su aclamada temática y su talentoso reparto\, que incluye a Amy Poehler como Alegría\, Phyllis Smith como Tristeza\, Bill Hader como Miedo\, Lewis Black como Ira y Mindy Kaling como Asco. (Clasificada PG\, 1h 35min.)  \nFREE\, Registration required  \nScreened in Spanish with English subtitles  \nInside Out follows the story of young Riley and her personified emotions as the 11-year-old girl moves across country with her family. This animated family favorite is acclaimed for its subject matter and talented cast\, including Amy Poehler as Joy\, Phyllis Smith as Sadness\, Bill Hader as Fear\, Lewis Black as Anger\, and Mindy Kaling as Disgust. (Rated PG\, 1h 35min.) 
URL:https://mahaiwe.org/event/inside-out-2015-en-espanol/
LOCATION:Mahaiwe Performing Arts Center\, 14 Castle Street\, Great Barrington\, MA\, 01230
CATEGORIES:Family,Mahaiwe Presents,Movies,Special Events
ATTACH;FMTTYPE=image/png:https://mahaiwe.org/wp-content/uploads/2025/06/insideout-crop.png
END:VEVENT
END:VCALENDAR