BEGIN:VCALENDAR
VERSION:2.0
PRODID:-//Mahaiwe Performing Arts Center - ECPv6.15.20//NONSGML v1.0//EN
CALSCALE:GREGORIAN
METHOD:PUBLISH
X-WR-CALNAME:Mahaiwe Performing Arts Center
X-ORIGINAL-URL:https://mahaiwe.org
X-WR-CALDESC:Events for Mahaiwe Performing Arts Center
REFRESH-INTERVAL;VALUE=DURATION:PT1H
X-Robots-Tag:noindex
X-PUBLISHED-TTL:PT1H
BEGIN:VTIMEZONE
TZID:America/New_York
BEGIN:DAYLIGHT
TZOFFSETFROM:-0500
TZOFFSETTO:-0400
TZNAME:EDT
DTSTART:20250309T070000
END:DAYLIGHT
BEGIN:STANDARD
TZOFFSETFROM:-0400
TZOFFSETTO:-0500
TZNAME:EST
DTSTART:20251102T060000
END:STANDARD
BEGIN:DAYLIGHT
TZOFFSETFROM:-0500
TZOFFSETTO:-0400
TZNAME:EDT
DTSTART:20260308T070000
END:DAYLIGHT
BEGIN:STANDARD
TZOFFSETFROM:-0400
TZOFFSETTO:-0500
TZNAME:EST
DTSTART:20261101T060000
END:STANDARD
BEGIN:DAYLIGHT
TZOFFSETFROM:-0500
TZOFFSETTO:-0400
TZNAME:EDT
DTSTART:20270314T070000
END:DAYLIGHT
BEGIN:STANDARD
TZOFFSETFROM:-0400
TZOFFSETTO:-0500
TZNAME:EST
DTSTART:20271107T060000
END:STANDARD
END:VTIMEZONE
BEGIN:VEVENT
DTSTART;TZID=America/New_York:20260122T173000
DTEND;TZID=America/New_York:20260122T173000
DTSTAMP:20260423T105257
CREATED:20251121T141739Z
LAST-MODIFIED:20251121T141739Z
UID:10001412-1769103000-1769103000@mahaiwe.org
SUMMARY:Scott Eyerly’s Virtual Met Opera Lecture: Kavalier & Clay
DESCRIPTION:JOIN\n  \nFREE \nScott Eyerly will offer a free opera talk via Zoom the Thursday prior to the Metropolitan Opera’s broadcast the following weekend. \nUse the following link at the date and time of the lecture to join: https://us02web.zoom.us/j/88641101777 \nComposer and librettist Scott Eyerly brings a fresh approach to the Mahaiwe’s Met lectures. He combines his experience as a teacher at The Juilliard School with a wide range of creative accomplishments – from his comic opera My Life Online\, premiered at the Edinburgh Fringe\, to his musical comedy Pooch\, produced in workshop at Seagle Music Festival. Eyerly’s lively talks are drawing novices and cognoscenti alike.
URL:https://mahaiwe.org/event/scott-eyerlys-virtual-met-opera-lecture-kavalier-clay/
LOCATION:Mahaiwe Performing Arts Center\, 14 Castle Street\, Great Barrington\, MA\, 01230
CATEGORIES:Lectures,Mahaiwe Presents,Opera & Classical
ATTACH;FMTTYPE=image/jpeg:https://mahaiwe.org/wp-content/uploads/2020/08/eyerly-background.jpg
END:VEVENT
BEGIN:VEVENT
DTSTART;TZID=America/New_York:20260124T130000
DTEND;TZID=America/New_York:20260124T130000
DTSTAMP:20260423T105257
CREATED:20251016T204530Z
LAST-MODIFIED:20260109T181837Z
UID:10001392-1769259600-1769259600@mahaiwe.org
SUMMARY:Met Opera Live in HD: The Amazing Adventures of Kavalier & Clay
DESCRIPTION:TICKETS\n  \n$25 / $10 ages 21 and under\nConnectorCare/WIC/EBT Card to Culture*   \nDue to popular demand\, The Amazing Adventures of Kavalier & Clay\, recorded live earlier this season\, will be presented as a special screening. In this exhilarating new adaptation of Michael Chabon’s Pulitzer Prize–winning novel\, two Jewish cousins invent an anti-fascist superhero and launch their own comic-book series\, hoping to recruit America into the fight against Nazism. Incorporating scintillating electronic elements and a variety of musical styles\, composer Mason Bates’s eclectic score moves seamlessly among the three worlds of Gene Scheer’s libretto: Nazi-occupied Prague\, the bustling streets of New York City\, and the technicolor realm of comic-book fantasy. Bartlett Sher’s production provides spectacular visuals to match\, with towering sets and proscenium-filling projections designed by 59 Studio. Music Director Yannick Nézet-Séguin conducts the Met premiere-production\, with baritone Andrzej Filończyk as the artist Joe Kavalier\, who flees Czechoslovakia and arrives at the Brooklyn doorstep of writer Sam Clay\, sung by tenor Miles Mykkanen.  \nWarning: Adult content and language \n*We accept ConnectorCare/WIC/EBT cards! Four free tickets to movies or HD broadcasts per individual. Thank you to the donors who make this possible. 
URL:https://mahaiwe.org/event/met-opera-live-in-hd-the-amazing-adventures-of-kavalier-clay/
LOCATION:Mahaiwe Performing Arts Center\, 14 Castle Street\, Great Barrington\, MA\, 01230
CATEGORIES:HD Broadcasts,Mahaiwe Presents,Opera & Classical
ATTACH;FMTTYPE=image/jpeg:https://mahaiwe.org/wp-content/uploads/2025/10/LiveinHD_KavClay-crop.jpg
END:VEVENT
END:VCALENDAR